Workbook

Sheet メンバー表
B1: 2024年度 関西女子学生バスケットボール連盟 メンバー一覧 | AP1: (様式1 正会員名簿)
B2: 関西女子学生バスケットボール連盟は、4月から一般社団法人全関西大学女子バスケットボール連盟に改称します
C4: 大学名 | G4: 大学 | H4: 英語表記 (略称表記) | J4: （例）KWIBA | AJ4: 学連員入力欄 | AL4: 更新日 | AM4: 3月 6日
J5: ※SNS等で使用してほしいチーム名
C6: 選手登録人数： | F6: 人
C7: スタッフ登録人数： | F7: 人 | G7: ※帯同審判は含まない
D8: 選手・スタッフ兼任登録人数： | F8: 人
D9: 登録人数合計： | E9: =E6+E7-E8 -> 0 | F9: 人
B12: 選手一覧 | V12: スタッフ一覧
B13: No. | C13: 英語表記 | E13: 学部 | F13: 学年 | G13: 年齢 | H13: 身長 | I13: 出身校 | K13: ポジション | L13: JBAメンバーID（9桁） | V13: No. | W13: 役職 | X13: フリガナ | Z13: 住所 | AD13: 電話番号 | AF13: ライセンス保持者のみ入力
C14: 選手名 | X14: 名前 | AF14: ◯級 | AG14: JBA公認コーチ登録番号（9桁）
B15: 1 | J15: 高 | V15: 1
B17: 2 | J17: 高 | V17: 2
B19: 3 | J19: 高 | V19: 3
B21: 4 | J21: 高 | V21: 4
B23: 5 | J23: 高 | V23: 5
B25: 6 | J25: 高 | V25: 6
B27: 7 | J27: 高 | V27: 7
B29: 8 | J29: 高 | V29: 8
B31: 9 | J31: 高 | V31: 9
B33: 10 | J33: 高 | V33: 10
B35: 11 | J35: 高 | V35: 11
B37: 12 | J37: 高 | V37: 12
... B45: 16 | J45: 高 | V45: 16
B47: 17 | J47: 高
V48: 帯同審判一覧
B49: 18 | J49: 高 | V49: No. | X49: フリガナ | Z49: 住所 | AD49: 電話番号 | AF49: 審判ライセンス（◯級） | AG49: JBA公認審判登録番号（9桁）
X50: 名前
B51: 19 | J51: 高 | V51: 1 | Z51: 〒
B53: 20 | J53: 高 | V53: 2 | Z53: 〒
B55: 21 | J55: 高 | V55: 3 | Z55: 〒
B57: 22 | J57: 高 | V57: 4 | Z57: 〒
B59: 23 | J59: 高 | V59: 5 | Z59: 〒
B61: 24 | J61: 高 | V61: 6 | Z61: 〒
B63: 25 | J63: 高 | V63: 7 | Z63: 〒
B65: 26 | J65: 高 | V65: 8 | Z65: 〒
B67: 27 | J67: 高 | V67: 9 | Z67: 〒
B69: 28 | J69: 高 | V69: 10 | Z69: 〒
B71: 29 | J71: 高 | V71: 11 | Z71: 〒
B73: 30 | J73: 高 | V73: 12 | Z73: 〒
... B81: 34 | J81: 高 | V81: 16 | Z81: 〒
B83: 35 | J83: 高
B85: 36 | J85: 高
B87: 37 | J87: 高
B89: 38 | J89: 高
B91: 39 | J91: 高
B93: 40 | J93: 高
B95: 41 | J95: 高
B97: 42 | J97: 高
B99: 43 | J99: 高
B101: 44 | J101: 高
B103: 45 | J103: 高
B105: 46 | J105: 高
... B113: 50 | J113: 高

Sheet エントリーチェック表
B2: 令和6年度 関西女子学生バスケットボール連盟 エントリーチェック用紙
C4: スタッフ
D5: 役職 | E5: 氏名 | G5: ライセンス保持者のみ入力 | S5: =メンバー表!$D$4 -> 0 | V5: 大学
G6: ◯級 | H6: JBA公認コーチ登録番号（9桁）
C7: 1 | D7: =メンバー表!$W$15 -> 0 | E7: =メンバー表!X16 -> 0 | G7: =メンバー表!AF15 -> 0 | H7: =メンバー表!AG15 -> 0 | I7: =メンバー表!AH15 -> 0 | J7: =メンバー表!AI15 -> 0 | K7: =メンバー表!AJ15 -> 0 | L7: =メンバー表!AK15 -> 0 | M7: =メンバー表!AL15 -> 0 | N7: =メンバー表!AM15 -> 0 | ... P7: =メンバー表!AO15 -> 0
C8: 2 | D8: =メンバー表!$W$17 -> 0 | E8: =メンバー表!X18 -> 0 | G8: =メンバー表!$AF$17 -> 0 | H8: =メンバー表!AG17 -> 0 | I8: =メンバー表!AH17 -> 0 | J8: =メンバー表!AI17 -> 0 | K8: =メンバー表!AJ17 -> 0 | L8: =メンバー表!AK17 -> 0 | M8: =メンバー表!AL17 -> 0 | N8: =メンバー表!AM17 -> 0 | O8: =メンバー表!AN17 -> 0 | P8: =メンバー表!AO17 -> 0
C9: 3 | D9: =メンバー表!$W$19 -> 0 | E9: =メンバー表!X20 -> 0 | G9: =メンバー表!$AF$19 -> 0 | H9: =メンバー表!AG19 -> 0 | I9: =メンバー表!AH19 -> 0 | J9: =メンバー表!AI19 -> 0 | K9: =メンバー表!AJ19 -> 0 | L9: =メンバー表!AK19 -> 0 | M9: =メンバー表!AL19 -> 0 | N9: =メンバー表!AM19 -> 0 | O9: =メンバー表!AN19 -> 0 | P9: =メンバー表!AO19 -> 0 | S9: =メンバー表!AL4 -> 更新日 | T9: =メンバー表!AM4 -> 3月 6日
C10: 4 | D10: =メンバー表!$W$21 -> 0 | E10: =メンバー表!X22 -> 0 | G10: =メンバー表!$AF$21 -> 0 | H10: =メンバー表!AG21 -> 0 | I10: =メンバー表!AH21 -> 0 | J10: =メンバー表!AI21 -> 0 | K10: =メンバー表!AJ21 -> 0 | L10: =メンバー表!AK21 -> 0 | M10: =メンバー表!AL21 -> 0 | N10: =メンバー表!AM21 -> 0 | O10: =メンバー表!AN21 -> 0 | P10: =メンバー表!AO21 -> 0
C11: 5 | D11: =メンバー表!$W$23 -> 0 | E11: =メンバー表!X24 -> 0 | G11: =メンバー表!$AF$23 -> 0 | H11: =メンバー表!AG23 -> 0 | I11: =メンバー表!AH23 -> 0 | J11: =メンバー表!AI23 -> 0 | K11: =メンバー表!AJ23 -> 0 | L11: =メンバー表!AK23 -> 0 | M11: =メンバー表!AL23 -> 0 | N11: =メンバー表!AM23 -> 0 | O11: =メンバー表!AN23 -> 0 | P11: =メンバー表!AO23 -> 0
C12: 6 | D12: =メンバー表!$W$25 -> 0 | E12: =メンバー表!X26 -> 0 | G12: =メンバー表!$AF$25 -> 0 | H12: =メンバー表!AG25 -> 0 | I12: =メンバー表!AH25 -> 0 | J12: =メンバー表!AI25 -> 0 | K12: =メンバー表!AJ25 -> 0 | L12: =メンバー表!AK25 -> 0 | M12: =メンバー表!AL25 -> 0 | N12: =メンバー表!AM25 -> 0 | O12: =メンバー表!AN25 -> 0 | P12: =メンバー表!AO25 -> 0
C13: 7 | D13: =メンバー表!$W$27 -> 0 | E13: =メンバー表!X28 -> 0 | G13: =メンバー表!$AF$27 -> 0 | H13: =メンバー表!AG27 -> 0 | I13: =メンバー表!AH27 -> 0 | J13: =メンバー表!AI27 -> 0 | K13: =メンバー表!AJ27 -> 0 | L13: =メンバー表!AK27 -> 0 | M13: =メンバー表!AL27 -> 0 | N13: =メンバー表!AM27 -> 0 | O13: =メンバー表!AN27 -> 0 | P13: =メンバー表!AO27 -> 0
C14: 8 | D14: =メンバー表!$W$29 -> 0 | E14: =メンバー表!X30 -> 0 | G14: =メンバー表!$AF$29 -> 0 | H14: =メンバー表!AG29 -> 0 | I14: =メンバー表!AH29 -> 0 | J14: =メンバー表!AI29 -> 0 | K14: =メンバー表!AJ29 -> 0 | L14: =メンバー表!AK29 -> 0 | M14: =メンバー表!AL29 -> 0 | N14: =メンバー表!AM29 -> 0 | O14: =メンバー表!AN29 -> 0 | P14: =メンバー表!AO29 -> 0
C15: 9 | D15: =メンバー表!$W$31 -> 0 | E15: =メンバー表!X32 -> 0 | G15: =メンバー表!$AF$31 -> 0 | H15: =メンバー表!AG31 -> 0 | I15: =メンバー表!AH31 -> 0 | J15: =メンバー表!AI31 -> 0 | K15: =メンバー表!AJ31 -> 0 | L15: =メンバー表!AK31 -> 0 | M15: =メンバー表!AL31 -> 0 | N15: =メンバー表!AM31 -> 0 | O15: =メンバー表!AN31 -> 0 | P15: =メンバー表!AO31 -> 0
C16: 10 | D16: =メンバー表!$W$33 -> 0 | E16: =メンバー表!X34 -> 0 | G16: =メンバー表!$AF$33 -> 0 | H16: =メンバー表!AG33 -> 0 | I16: =メンバー表!AH33 -> 0 | J16: =メンバー表!AI33 -> 0 | K16: =メンバー表!AJ33 -> 0 | L16: =メンバー表!AK33 -> 0 | M16: =メンバー表!AL33 -> 0 | N16: =メンバー表!AM33 -> 0 | O16: =メンバー表!AN33 -> 0 | P16: =メンバー表!AO33 -> 0
C17: 11 | D17: =メンバー表!$W$35 -> 0 | E17: =メンバー表!X36 -> 0 | G17: =メンバー表!$AF$35 -> 0 | H17: =メンバー表!AG35 -> 0 | I17: =メンバー表!AH35 -> 0 | J17: =メンバー表!AI35 -> 0 | K17: =メンバー表!AJ35 -> 0 | L17: =メンバー表!AK35 -> 0 | M17: =メンバー表!AL35 -> 0 | N17: =メンバー表!AM35 -> 0 | O17: =メンバー表!AN35 -> 0 | P17: =メンバー表!AO35 -> 0
C18: 12 | D18: =メンバー表!$W$37 -> 0 | E18: =メンバー表!X38 -> 0 | G18: =メンバー表!$AF$37 -> 0 | H18: =メンバー表!AG37 -> 0 | I18: =メンバー表!AH37 -> 0 | J18: =メンバー表!AI37 -> 0 | K18: =メンバー表!AJ37 -> 0 | L18: =メンバー表!AK37 -> 0 | M18: =メンバー表!AL37 -> 0 | N18: =メンバー表!AM37 -> 0 | O18: =メンバー表!AN37 -> 0 | P18: =メンバー表!AO37 -> 0
C19: 13 | D19: =メンバー表!$W$39 -> 0 | E19: =メンバー表!X40 -> 0 | G19: =メンバー表!$AF$39 -> 0 | H19: =メンバー表!AG39 -> 0 | I19: =メンバー表!AH39 -> 0 | J19: =メンバー表!AI39 -> 0 | K19: =メンバー表!AJ39 -> 0 | L19: =メンバー表!AK39 -> 0 | M19: =メンバー表!AL39 -> 0 | N19: =メンバー表!AM39 -> 0 | O19: =メンバー表!AN39 -> 0 | P19: =メンバー表!AO39 -> 0
C20: 14 | D20: =メンバー表!$W$41 -> 0 | E20: =メンバー表!X42 -> 0 | G20: =メンバー表!$AF$41 -> 0 | H20: =メンバー表!AG41 -> 0 | I20: =メンバー表!AH41 -> 0 | J20: =メンバー表!AI41 -> 0 | K20: =メンバー表!AJ41 -> 0 | L20: =メンバー表!AK41 -> 0 | M20: =メンバー表!AL41 -> 0 | N20: =メンバー表!AM41 -> 0 | O20: =メンバー表!AN41 -> 0 | P20: =メンバー表!AO41 -> 0
C21: 15 | D21: =メンバー表!$W$43 -> 0 | E21: =メンバー表!X44 -> 0 | G21: =メンバー表!$AF$43 -> 0 | H21: =メンバー表!AG43 -> 0 | I21: =メンバー表!AH43 -> 0 | J21: =メンバー表!AI43 -> 0 | K21: =メンバー表!AJ43 -> 0 | L21: =メンバー表!AK43 -> 0 | M21: =メンバー表!AL43 -> 0 | N21: =メンバー表!AM43 -> 0 | O21: =メンバー表!AN43 -> 0 | P21: =メンバー表!AO43 -> 0
C22: 16 | D22: =メンバー表!$W$45 -> 0 | E22: =メンバー表!X46 -> 0 | G22: =メンバー表!$AF$45 -> 0 | H22: =メンバー表!AG45 -> 0 | I22: =メンバー表!AH45 -> 0 | J22: =メンバー表!AI45 -> 0 | K22: =メンバー表!AJ45 -> 0 | L22: =メンバー表!AK45 -> 0 | M22: =メンバー表!AL45 -> 0 | N22: =メンバー表!AM45 -> 0 | O22: =メンバー表!AN45 -> 0 | P22: =メンバー表!AO45 -> 0
C24: 選手
D25: 氏名 | E25: 学年 | F25: 出身校 | H25: JBAメンバーID（9桁） | S25: 氏名 | T25: 学年 | U25: 出身校 | W25: JBAメンバーID（9桁）
C26: 1 | D26: =メンバー表!C16 -> 0 | E26: =メンバー表!F15 -> 0 | F26: =メンバー表!$I$15 -> 0 | H26: =メンバー表!L15 -> 0 | I26: =メンバー表!M15 -> 0 | J26: =メンバー表!N15 -> 0 | K26: =メンバー表!O15 -> 0 | L26: =メンバー表!P15 -> 0 | M26: =メンバー表!Q15 -> 0 | N26: =メンバー表!R15 -> 0 | O26: =メンバー表!S15 -> 0 | P26: =メンバー表!T15 -> 0 | R26: 26 | S26: =メンバー表!C66 -> 0 | T26: =メンバー表!F65 -> 0 | U26: =メンバー表!I65 -> 0 | W26: =メンバー表!L65 -> 0 | X26: =メンバー表!M65 -> 0 | Y26: =メンバー表!N65 -> 0 | Z26: =メンバー表!O65 -> 0 | AA26: =メンバー表!P65 -> 0 | AB26: =メンバー表!Q65 -> 0 | AC26: =メンバー表!R65 -> 0 | AD26: =メンバー表!S65 -> 0 | AE26: =メンバー表!T65 -> 0
C27: 2 | D27: =メンバー表!C18 -> 0 | E27: =メンバー表!F17 -> 0 | F27: =メンバー表!$I$17 -> 0 | H27: =メンバー表!L17 -> 0 | I27: =メンバー表!M17 -> 0 | J27: =メンバー表!N17 -> 0 | K27: =メンバー表!O17 -> 0 | L27: =メンバー表!P17 -> 0 | M27: =メンバー表!Q17 -> 0 | N27: =メンバー表!R17 -> 0 | O27: =メンバー表!S17 -> 0 | P27: =メンバー表!T17 -> 0 | R27: 27 | S27: =メンバー表!C68 -> 0 | T27: =メンバー表!F67 -> 0 | U27: =メンバー表!I67 -> 0 | W27: =メンバー表!L67 -> 0 | X27: =メンバー表!M67 -> 0 | Y27: =メンバー表!N67 -> 0 | Z27: =メンバー表!O67 -> 0 | AA27: =メンバー表!P67 -> 0 | AB27: =メンバー表!Q67 -> 0 | AC27: =メンバー表!R67 -> 0 | AD27: =メンバー表!S67 -> 0 | AE27: =メンバー表!T67 -> 0
C28: 3 | D28: =メンバー表!C20 -> 0 | E28: =メンバー表!F19 -> 0 | F28: =メンバー表!$I$19 -> 0 | H28: =メンバー表!L19 -> 0 | I28: =メンバー表!M19 -> 0 | J28: =メンバー表!N19 -> 0 | K28: =メンバー表!O19 -> 0 | L28: =メンバー表!P19 -> 0 | M28: =メンバー表!Q19 -> 0 | N28: =メンバー表!R19 -> 0 | O28: =メンバー表!S19 -> 0 | P28: =メンバー表!T19 -> 0 | R28: 28 | S28: =メンバー表!C70 -> 0 | T28: =メンバー表!F69 -> 0 | U28: =メンバー表!I69 -> 0 | W28: =メンバー表!L69 -> 0 | X28: =メンバー表!M69 -> 0 | Y28: =メンバー表!N69 -> 0 | Z28: =メンバー表!O69 -> 0 | AA28: =メンバー表!P69 -> 0 | AB28: =メンバー表!Q69 -> 0 | AC28: =メンバー表!R69 -> 0 | AD28: =メンバー表!S69 -> 0 | AE28: =メンバー表!T69 -> 0
C29: 4 | D29: =メンバー表!C22 -> 0 | E29: =メンバー表!F21 -> 0 | F29: =メンバー表!$I$21 -> 0 | H29: =メンバー表!L21 -> 0 | I29: =メンバー表!M21 -> 0 | J29: =メンバー表!N21 -> 0 | K29: =メンバー表!O21 -> 0 | L29: =メンバー表!P21 -> 0 | M29: =メンバー表!Q21 -> 0 | N29: =メンバー表!R21 -> 0 | O29: =メンバー表!S21 -> 0 | P29: =メンバー表!T21 -> 0 | R29: 29 | S29: =メンバー表!C72 -> 0 | T29: =メンバー表!F71 -> 0 | U29: =メンバー表!I71 -> 0 | W29: =メンバー表!L71 -> 0 | X29: =メンバー表!M71 -> 0 | Y29: =メンバー表!N71 -> 0 | Z29: =メンバー表!O71 -> 0 | AA29: =メンバー表!P71 -> 0 | AB29: =メンバー表!Q71 -> 0 | AC29: =メンバー表!R71 -> 0 | AD29: =メンバー表!S71 -> 0 | AE29: =メンバー表!T71 -> 0
C30: 5 | D30: =メンバー表!C24 -> 0 | E30: =メンバー表!F23 -> 0 | F30: =メンバー表!$I$23 -> 0 | H30: =メンバー表!L23 -> 0 | I30: =メンバー表!M23 -> 0 | J30: =メンバー表!N23 -> 0 | K30: =メンバー表!O23 -> 0 | L30: =メンバー表!P23 -> 0 | M30: =メンバー表!Q23 -> 0 | N30: =メンバー表!R23 -> 0 | O30: =メンバー表!S23 -> 0 | P30: =メンバー表!T23 -> 0 | R30: 30 | S30: =メンバー表!C74 -> 0 | T30: =メンバー表!F73 -> 0 | U30: =メンバー表!I73 -> 0 | W30: =メンバー表!L73 -> 0 | X30: =メンバー表!M73 -> 0 | Y30: =メンバー表!N73 -> 0 | Z30: =メンバー表!O73 -> 0 | AA30: =メンバー表!P73 -> 0 | AB30: =メンバー表!Q73 -> 0 | AC30: =メンバー表!R73 -> 0 | AD30: =メンバー表!S73 -> 0 | AE30: =メンバー表!T73 -> 0
C31: 6 | D31: =メンバー表!C26 -> 0 | E31: =メンバー表!F25 -> 0 | F31: =メンバー表!$I$25 -> 0 | H31: =メンバー表!L25 -> 0 | I31: =メンバー表!M25 -> 0 | J31: =メンバー表!N25 -> 0 | K31: =メンバー表!O25 -> 0 | L31: =メンバー表!P25 -> 0 | M31: =メンバー表!Q25 -> 0 | N31: =メンバー表!R25 -> 0 | O31: =メンバー表!S25 -> 0 | P31: =メンバー表!T25 -> 0 | R31: 31 | S31: =メンバー表!C76 -> 0 | T31: =メンバー表!F75 -> 0 | U31: =メンバー表!I75 -> 0 | W31: =メンバー表!L75 -> 0 | X31: =メンバー表!M75 -> 0 | Y31: =メンバー表!N75 -> 0 | Z31: =メンバー表!O75 -> 0 | AA31: =メンバー表!P75 -> 0 | AB31: =メンバー表!Q75 -> 0 | AC31: =メンバー表!R75 -> 0 | AD31: =メンバー表!S75 -> 0 | AE31: =メンバー表!T75 -> 0
C32: 7 | D32: =メンバー表!C28 -> 0 | E32: =メンバー表!F27 -> 0 | F32: =メンバー表!$I$27 -> 0 | H32: =メンバー表!L27 -> 0 | I32: =メンバー表!M27 -> 0 | J32: =メンバー表!N27 -> 0 | K32: =メンバー表!O27 -> 0 | L32: =メンバー表!P27 -> 0 | M32: =メンバー表!Q27 -> 0 | N32: =メンバー表!R27 -> 0 | O32: =メンバー表!S27 -> 0 | P32: =メンバー表!T27 -> 0 | R32: 32 | S32: =メンバー表!C78 -> 0 | T32: =メンバー表!F77 -> 0 | U32: =メンバー表!I77 -> 0 | W32: =メンバー表!L77 -> 0 | X32: =メンバー表!M77 -> 0 | Y32: =メンバー表!N77 -> 0 | Z32: =メンバー表!O77 -> 0 | AA32: =メンバー表!P77 -> 0 | AB32: =メンバー表!Q77 -> 0 | AC32: =メンバー表!R77 -> 0 | AD32: =メンバー表!S77 -> 0 | AE32: =メンバー表!T77 -> 0
C33: 8 | D33: =メンバー表!C30 -> 0 | E33: =メンバー表!F29 -> 0 | F33: =メンバー表!$I$29 -> 0 | H33: =メンバー表!L29 -> 0 | I33: =メンバー表!M29 -> 0 | J33: =メンバー表!N29 -> 0 | K33: =メンバー表!O29 -> 0 | L33: =メンバー表!P29 -> 0 | M33: =メンバー表!Q29 -> 0 | N33: =メンバー表!R29 -> 0 | O33: =メンバー表!S29 -> 0 | P33: =メンバー表!T29 -> 0 | R33: 33 | S33: =メンバー表!C80 -> 0 | T33: =メンバー表!F79 -> 0 | U33: =メンバー表!I79 -> 0 | W33: =メンバー表!L79 -> 0 | X33: =メンバー表!M79 -> 0 | Y33: =メンバー表!N79 -> 0 | Z33: =メンバー表!O79 -> 0 | AA33: =メンバー表!P79 -> 0 | AB33: =メンバー表!Q79 -> 0 | AC33: =メンバー表!R79 -> 0 | AD33: =メンバー表!S79 -> 0 | AE33: =メンバー表!T79 -> 0
C34: 9 | D34: =メンバー表!C32 -> 0 | E34: =メンバー表!F31 -> 0 | F34: =メンバー表!$I$31 -> 0 | H34: =メンバー表!L31 -> 0 | I34: =メンバー表!M31 -> 0 | J34: =メンバー表!N31 -> 0 | K34: =メンバー表!O31 -> 0 | L34: =メンバー表!P31 -> 0 | M34: =メンバー表!Q31 -> 0 | N34: =メンバー表!R31 -> 0 | O34: =メンバー表!S31 -> 0 | P34: =メンバー表!T31 -> 0 | R34: 34 | S34: =メンバー表!C82 -> 0 | T34: =メンバー表!F81 -> 0 | U34: =メンバー表!I81 -> 0 | W34: =メンバー表!L81 -> 0 | X34: =メンバー表!M81 -> 0 | Y34: =メンバー表!N81 -> 0 | Z34: =メンバー表!O81 -> 0 | AA34: =メンバー表!P81 -> 0 | AB34: =メンバー表!Q81 -> 0 | AC34: =メンバー表!R81 -> 0 | AD34: =メンバー表!S81 -> 0 | AE34: =メンバー表!T81 -> 0
C35: 10 | D35: =メンバー表!C34 -> 0 | E35: =メンバー表!F33 -> 0 | F35: =メンバー表!$I$33 -> 0 | H35: =メンバー表!L33 -> 0 | I35: =メンバー表!M33 -> 0 | J35: =メンバー表!N33 -> 0 | K35: =メンバー表!O33 -> 0 | L35: =メンバー表!P33 -> 0 | M35: =メンバー表!Q33 -> 0 | N35: =メンバー表!R33 -> 0 | O35: =メンバー表!S33 -> 0 | P35: =メンバー表!T33 -> 0 | R35: 35 | S35: =メンバー表!C84 -> 0 | T35: =メンバー表!F83 -> 0 | U35: =メンバー表!I83 -> 0 | W35: =メンバー表!L83 -> 0 | X35: =メンバー表!M83 -> 0 | Y35: =メンバー表!N83 -> 0 | Z35: =メンバー表!O83 -> 0 | AA35: =メンバー表!P83 -> 0 | AB35: =メンバー表!Q83 -> 0 | AC35: =メンバー表!R83 -> 0 | AD35: =メンバー表!S83 -> 0 | AE35: =メンバー表!T83 -> 0
C36: 11 | D36: =メンバー表!C36 -> 0 | E36: =メンバー表!F35 -> 0 | F36: =メンバー表!$I$35 -> 0 | H36: =メンバー表!L35 -> 0 | I36: =メンバー表!M35 -> 0 | J36: =メンバー表!N35 -> 0 | K36: =メンバー表!O35 -> 0 | L36: =メンバー表!P35 -> 0 | M36: =メンバー表!Q35 -> 0 | N36: =メンバー表!R35 -> 0 | O36: =メンバー表!S35 -> 0 | P36: =メンバー表!T35 -> 0 | R36: 36 | S36: =メンバー表!C86 -> 0 | T36: =メンバー表!F85 -> 0 | U36: =メンバー表!I85 -> 0 | W36: =メンバー表!L85 -> 0 | X36: =メンバー表!M85 -> 0 | Y36: =メンバー表!N85 -> 0 | Z36: =メンバー表!O85 -> 0 | AA36: =メンバー表!P85 -> 0 | AB36: =メンバー表!Q85 -> 0 | AC36: =メンバー表!R85 -> 0 | AD36: =メンバー表!S85 -> 0 | AE36: =メンバー表!T85 -> 0
C37: 12 | D37: =メンバー表!C38 -> 0 | E37: =メンバー表!F37 -> 0 | F37: =メンバー表!$I$37 -> 0 | H37: =メンバー表!L37 -> 0 | I37: =メンバー表!M37 -> 0 | J37: =メンバー表!N37 -> 0 | K37: =メンバー表!O37 -> 0 | L37: =メンバー表!P37 -> 0 | M37: =メンバー表!Q37 -> 0 | N37: =メンバー表!R37 -> 0 | O37: =メンバー表!S37 -> 0 | P37: =メンバー表!T37 -> 0 | R37: 37 | S37: =メンバー表!C88 -> 0 | T37: =メンバー表!F87 -> 0 | U37: =メンバー表!I87 -> 0 | W37: =メンバー表!L87 -> 0 | X37: =メンバー表!M87 -> 0 | Y37: =メンバー表!N87 -> 0 | Z37: =メンバー表!O87 -> 0 | AA37: =メンバー表!P87 -> 0 | AB37: =メンバー表!Q87 -> 0 | AC37: =メンバー表!R87 -> 0 | AD37: =メンバー表!S87 -> 0 | AE37: =メンバー表!T87 -> 0
C38: 13 | D38: =メンバー表!C40 -> 0 | E38: =メンバー表!F39 -> 0 | F38: =メンバー表!$I$39 -> 0 | H38: =メンバー表!L39 -> 0 | I38: =メンバー表!M39 -> 0 | J38: =メンバー表!N39 -> 0 | K38: =メンバー表!O39 -> 0 | L38: =メンバー表!P39 -> 0 | M38: =メンバー表!Q39 -> 0 | N38: =メンバー表!R39 -> 0 | O38: =メンバー表!S39 -> 0 | P38: =メンバー表!T39 -> 0 | R38: 38 | S38: =メンバー表!C90 -> 0 | T38: =メンバー表!F89 -> 0 | U38: =メンバー表!I89 -> 0 | W38: =メンバー表!L89 -> 0 | X38: =メンバー表!M89 -> 0 | Y38: =メンバー表!N89 -> 0 | Z38: =メンバー表!O89 -> 0 | AA38: =メンバー表!P89 -> 0 | AB38: =メンバー表!Q89 -> 0 | AC38: =メンバー表!R89 -> 0 | AD38: =メンバー表!S89 -> 0 | AE38: =メンバー表!T89 -> 0
C39: 14 | D39: =メンバー表!C42 -> 0 | E39: =メンバー表!F41 -> 0 | F39: =メンバー表!$I$41 -> 0 | H39: =メンバー表!L41 -> 0 | I39: =メンバー表!M41 -> 0 | J39: =メンバー表!N41 -> 0 | K39: =メンバー表!O41 -> 0 | L39: =メンバー表!P41 -> 0 | M39: =メンバー表!Q41 -> 0 | N39: =メンバー表!R41 -> 0 | O39: =メンバー表!S41 -> 0 | P39: =メンバー表!T41 -> 0 | R39: 39 | S39: =メンバー表!C92 -> 0 | T39: =メンバー表!F91 -> 0 | U39: =メンバー表!I91 -> 0 | W39: =メンバー表!L91 -> 0 | X39: =メンバー表!M91 -> 0 | Y39: =メンバー表!N91 -> 0 | Z39: =メンバー表!O91 -> 0 | AA39: =メンバー表!P91 -> 0 | AB39: =メンバー表!Q91 -> 0 | AC39: =メンバー表!R91 -> 0 | AD39: =メンバー表!S91 -> 0 | AE39: =メンバー表!T91 -> 0
C40: 15 | D40: =メンバー表!C44 -> 0 | E40: =メンバー表!F43 -> 0 | F40: =メンバー表!$I$43 -> 0 | H40: =メンバー表!L43 -> 0 | I40: =メンバー表!M43 -> 0 | J40: =メンバー表!N43 -> 0 | K40: =メンバー表!O43 -> 0 | L40: =メンバー表!P43 -> 0 | M40: =メンバー表!Q43 -> 0 | N40: =メンバー表!R43 -> 0 | O40: =メンバー表!S43 -> 0 | P40: =メンバー表!T43 -> 0 | R40: 40 | S40: =メンバー表!C94 -> 0 | T40: =メンバー表!F93 -> 0 | U40: =メンバー表!I93 -> 0 | W40: =メンバー表!L93 -> 0 | X40: =メンバー表!M93 -> 0 | Y40: =メンバー表!N93 -> 0 | Z40: =メンバー表!O93 -> 0 | AA40: =メンバー表!P93 -> 0 | AB40: =メンバー表!Q93 -> 0 | AC40: =メンバー表!R93 -> 0 | AD40: =メンバー表!S93 -> 0 | AE40: =メンバー表!T93 -> 0
C41: 16 | D41: =メンバー表!C46 -> 0 | E41: =メンバー表!F45 -> 0 | F41: =メンバー表!$I$45 -> 0 | H41: =メンバー表!L45 -> 0 | I41: =メンバー表!M45 -> 0 | J41: =メンバー表!N45 -> 0 | K41: =メンバー表!O45 -> 0 | L41: =メンバー表!P45 -> 0 | M41: =メンバー表!Q45 -> 0 | N41: =メンバー表!R45 -> 0 | O41: =メンバー表!S45 -> 0 | P41: =メンバー表!T45 -> 0 | R41: 41 | S41: =メンバー表!C96 -> 0 | T41: =メンバー表!F95 -> 0 | U41: =メンバー表!I95 -> 0 | W41: =メンバー表!L95 -> 0 | X41: =メンバー表!M95 -> 0 | Y41: =メンバー表!N95 -> 0 | Z41: =メンバー表!O95 -> 0 | AA41: =メンバー表!P95 -> 0 | AB41: =メンバー表!Q95 -> 0 | AC41: =メンバー表!R95 -> 0 | AD41: =メンバー表!S95 -> 0 | AE41: =メンバー表!T95 -> 0
C42: 17 | D42: =メンバー表!C48 -> 0 | E42: =メンバー表!F47 -> 0 | F42: =メンバー表!$I$47 -> 0 | H42: =メンバー表!L47 -> 0 | I42: =メンバー表!M47 -> 0 | J42: =メンバー表!N47 -> 0 | K42: =メンバー表!O47 -> 0 | L42: =メンバー表!P47 -> 0 | M42: =メンバー表!Q47 -> 0 | N42: =メンバー表!R47 -> 0 | O42: =メンバー表!S47 -> 0 | P42: =メンバー表!T47 -> 0 | R42: 42 | S42: =メンバー表!C98 -> 0 | T42: =メンバー表!F97 -> 0 | U42: =メンバー表!I97 -> 0 | W42: =メンバー表!L97 -> 0 | X42: =メンバー表!M97 -> 0 | Y42: =メンバー表!N97 -> 0 | Z42: =メンバー表!O97 -> 0 | AA42: =メンバー表!P97 -> 0 | AB42: =メンバー表!Q97 -> 0 | AC42: =メンバー表!R97 -> 0 | AD42: =メンバー表!S97 -> 0 | AE42: =メンバー表!T97 -> 0
C43: 18 | D43: =メンバー表!C50 -> 0 | E43: =メンバー表!F49 -> 0 | F43: =メンバー表!$I$49 -> 0 | H43: =メンバー表!L49 -> 0 | I43: =メンバー表!M49 -> 0 | J43: =メンバー表!N49 -> 0 | K43: =メンバー表!O49 -> 0 | L43: =メンバー表!P49 -> 0 | M43: =メンバー表!Q49 -> 0 | N43: =メンバー表!R49 -> 0 | O43: =メンバー表!S49 -> 0 | P43: =メンバー表!T49 -> 0 | R43: 43 | S43: =メンバー表!C100 -> 0 | T43: =メンバー表!F99 -> 0 | U43: =メンバー表!I99 -> 0 | W43: =メンバー表!L99 -> 0 | X43: =メンバー表!M99 -> 0 | Y43: =メンバー表!N99 -> 0 | Z43: =メンバー表!O99 -> 0 | AA43: =メンバー表!P99 -> 0 | AB43: =メンバー表!Q99 -> 0 | AC43: =メンバー表!R99 -> 0 | AD43: =メンバー表!S99 -> 0 | AE43: =メンバー表!T99 -> 0
C44: 19 | D44: =メンバー表!C52 -> 0 | E44: =メンバー表!F51 -> 0 | F44: =メンバー表!$I$51 -> 0 | H44: =メンバー表!L51 -> 0 | I44: =メンバー表!M51 -> 0 | J44: =メンバー表!N51 -> 0 | K44: =メンバー表!O51 -> 0 | L44: =メンバー表!P51 -> 0 | M44: =メンバー表!Q51 -> 0 | N44: =メンバー表!R51 -> 0 | O44: =メンバー表!S51 -> 0 | P44: =メンバー表!T51 -> 0 | R44: 44 | S44: =メンバー表!C102 -> 0 | T44: =メンバー表!F101 -> 0 | U44: =メンバー表!I101 -> 0 | W44: =メンバー表!L101 -> 0 | X44: =メンバー表!M101 -> 0 | Y44: =メンバー表!N101 -> 0 | Z44: =メンバー表!O101 -> 0 | AA44: =メンバー表!P101 -> 0 | AB44: =メンバー表!Q101 -> 0 | AC44: =メンバー表!R101 -> 0 | AD44: =メンバー表!S101 -> 0 | AE44: =メンバー表!T101 -> 0
C45: 20 | D45: =メンバー表!C54 -> 0 | E45: =メンバー表!F53 -> 0 | F45: =メンバー表!$I$53 -> 0 | H45: =メンバー表!L53 -> 0 | I45: =メンバー表!M53 -> 0 | J45: =メンバー表!N53 -> 0 | K45: =メンバー表!O53 -> 0 | L45: =メンバー表!P53 -> 0 | M45: =メンバー表!Q53 -> 0 | N45: =メンバー表!R53 -> 0 | O45: =メンバー表!S53 -> 0 | P45: =メンバー表!T53 -> 0 | R45: 45 | S45: =メンバー表!C104 -> 0 | T45: =メンバー表!F103 -> 0 | U45: =メンバー表!I103 -> 0 | W45: =メンバー表!L103 -> 0 | X45: =メンバー表!M103 -> 0 | Y45: =メンバー表!N103 -> 0 | Z45: =メンバー表!O103 -> 0 | AA45: =メンバー表!P103 -> 0 | AB45: =メンバー表!Q103 -> 0 | AC45: =メンバー表!R103 -> 0 | AD45: =メンバー表!S103 -> 0 | AE45: =メンバー表!T103 -> 0
C46: 21 | D46: =メンバー表!C56 -> 0 | E46: =メンバー表!F55 -> 0 | F46: =メンバー表!$I$55 -> 0 | H46: =メンバー表!L55 -> 0 | I46: =メンバー表!M55 -> 0 | J46: =メンバー表!N55 -> 0 | K46: =メンバー表!O55 -> 0 | L46: =メンバー表!P55 -> 0 | M46: =メンバー表!Q55 -> 0 | N46: =メンバー表!R55 -> 0 | O46: =メンバー表!S55 -> 0 | P46: =メンバー表!T55 -> 0 | R46: 46 | S46: =メンバー表!C106 -> 0 | T46: =メンバー表!F105 -> 0 | U46: =メンバー表!I105 -> 0 | W46: =メンバー表!L105 -> 0 | X46: =メンバー表!M105 -> 0 | Y46: =メンバー表!N105 -> 0 | Z46: =メンバー表!O105 -> 0 | AA46: =メンバー表!P105 -> 0 | AB46: =メンバー表!Q105 -> 0 | AC46: =メンバー表!R105 -> 0 | AD46: =メンバー表!S105 -> 0 | AE46: =メンバー表!T105 -> 0
C47: 22 | D47: =メンバー表!C58 -> 0 | E47: =メンバー表!F57 -> 0 | F47: =メンバー表!$I$57 -> 0 | H47: =メンバー表!L57 -> 0 | I47: =メンバー表!M57 -> 0 | J47: =メンバー表!N57 -> 0 | K47: =メンバー表!O57 -> 0 | L47: =メンバー表!P57 -> 0 | M47: =メンバー表!Q57 -> 0 | N47: =メンバー表!R57 -> 0 | O47: =メンバー表!S57 -> 0 | P47: =メンバー表!T57 -> 0 | R47: 47 | S47: =メンバー表!C108 -> 0 | T47: =メンバー表!F107 -> 0 | U47: =メンバー表!I107 -> 0 | W47: =メンバー表!L107 -> 0 | X47: =メンバー表!M107 -> 0 | Y47: =メンバー表!N107 -> 0 | Z47: =メンバー表!O107 -> 0 | AA47: =メンバー表!P107 -> 0 | AB47: =メンバー表!Q107 -> 0 | AC47: =メンバー表!R107 -> 0 | AD47: =メンバー表!S107 -> 0 | AE47: =メンバー表!T107 -> 0
C48: 23 | D48: =メンバー表!C60 -> 0 | E48: =メンバー表!F59 -> 0 | F48: =メンバー表!$I$59 -> 0 | H48: =メンバー表!L59 -> 0 | I48: =メンバー表!M59 -> 0 | J48: =メンバー表!N59 -> 0 | K48: =メンバー表!O59 -> 0 | L48: =メンバー表!P59 -> 0 | M48: =メンバー表!Q59 -> 0 | N48: =メンバー表!R59 -> 0 | O48: =メンバー表!S59 -> 0 | P48: =メンバー表!T59 -> 0 | R48: 48 | S48: =メンバー表!C110 -> 0 | T48: =メンバー表!F109 -> 0 | U48: =メンバー表!I109 -> 0 | W48: =メンバー表!L109 -> 0 | X48: =メンバー表!M109 -> 0 | Y48: =メンバー表!N109 -> 0 | Z48: =メンバー表!O109 -> 0 | AA48: =メンバー表!P109 -> 0 | AB48: =メンバー表!Q109 -> 0 | AC48: =メンバー表!R109 -> 0 | AD48: =メンバー表!S109 -> 0 | AE48: =メンバー表!T109 -> 0
C49: 24 | D49: =メンバー表!C62 -> 0 | E49: =メンバー表!F61 -> 0 | F49: =メンバー表!$I$61 -> 0 | H49: =メンバー表!L61 -> 0 | I49: =メンバー表!M61 -> 0 | J49: =メンバー表!N61 -> 0 | K49: =メンバー表!O61 -> 0 | L49: =メンバー表!P61 -> 0 | M49: =メンバー表!Q61 -> 0 | N49: =メンバー表!R61 -> 0 | O49: =メンバー表!S61 -> 0 | P49: =メンバー表!T61 -> 0 | R49: 49 | S49: =メンバー表!C112 -> 0 | T49: =メンバー表!F111 -> 0 | U49: =メンバー表!I111 -> 0 | W49: =メンバー表!L111 -> 0 | X49: =メンバー表!M111 -> 0 | Y49: =メンバー表!N111 -> 0 | Z49: =メンバー表!O111 -> 0 | AA49: =メンバー表!P111 -> 0 | AB49: =メンバー表!Q111 -> 0 | AC49: =メンバー表!R111 -> 0 | AD49: =メンバー表!S111 -> 0 | AE49: =メンバー表!T111 -> 0
C50: 25 | D50: =メンバー表!C64 -> 0 | E50: =メンバー表!F63 -> 0 | F50: =メンバー表!$I$63 -> 0 | H50: =メンバー表!L63 -> 0 | I50: =メンバー表!M63 -> 0 | J50: =メンバー表!N63 -> 0 | K50: =メンバー表!O63 -> 0 | L50: =メンバー表!P63 -> 0 | M50: =メンバー表!Q63 -> 0 | N50: =メンバー表!R63 -> 0 | O50: =メンバー表!S63 -> 0 | P50: =メンバー表!T63 -> 0 | R50: 50 | S50: =メンバー表!C114 -> 0 | T50: =メンバー表!F113 -> 0 | U50: =メンバー表!I113 -> 0 | W50: =メンバー表!L113 -> 0 | X50: =メンバー表!M113 -> 0 | Y50: =メンバー表!N113 -> 0 | Z50: =メンバー表!O113 -> 0 | AA50: =メンバー表!P113 -> 0 | AB50: =メンバー表!Q113 -> 0 | AC50: =メンバー表!R113 -> 0 | AD50: =メンバー表!S113 -> 0 | AE50: =メンバー表!T113 -> 0

Sheet 広報用
B2: 広報用 | F2: =メンバー表!AL4 -> 更新日 | G2: =メンバー表!AM4 -> 3月 6日
B3: =メンバー表!C4 -> 大学名 | C3: =メンバー表!D4 -> 0 | D3: =メンバー表!I4 -> 0
C4: 氏名 | D4: ローマ字表記 | F4: 氏名 | G4: ローマ字表記
B5: 1 | C5: =エントリーチェック表!D26 -> 0 | D5: =メンバー表!C15 -> 0 | E5: 26 | F5: =エントリーチェック表!S26 -> 0 | G5: =メンバー表!C65 -> 0
B6: 2 | C6: =エントリーチェック表!D27 -> 0 | D6: =メンバー表!C17 -> 0 | E6: 27 | F6: =エントリーチェック表!S27 -> 0 | G6: =メンバー表!C67 -> 0
B7: 3 | C7: =エントリーチェック表!D28 -> 0 | D7: =メンバー表!C19 -> 0 | E7: 28 | F7: =エントリーチェック表!S28 -> 0 | G7: =メンバー表!C69 -> 0
B8: 4 | C8: =エントリーチェック表!D29 -> 0 | D8: =メンバー表!C21 -> 0 | E8: 29 | F8: =エントリーチェック表!S29 -> 0 | G8: =メンバー表!C71 -> 0
B9: 5 | C9: =エントリーチェック表!D30 -> 0 | D9: =メンバー表!C23 -> 0 | E9: 30 | F9: =エントリーチェック表!S30 -> 0 | G9: =メンバー表!C73 -> 0
B10: 6 | C10: =エントリーチェック表!D31 -> 0 | D10: =メンバー表!C25 -> 0 | E10: 31 | F10: =エントリーチェック表!S31 -> 0 | G10: =メンバー表!C75 -> 0
B11: 7 | C11: =エントリーチェック表!D32 -> 0 | D11: =メンバー表!C27 -> 0 | E11: 32 | F11: =エントリーチェック表!S32 -> 0 | G11: =メンバー表!C77 -> 0
B12: 8 | C12: =エントリーチェック表!D33 -> 0 | D12: =メンバー表!C29 -> 0 | E12: 33 | F12: =エントリーチェック表!S33 -> 0 | G12: =メンバー表!C79 -> 0
B13: 9 | C13: =エントリーチェック表!D34 -> 0 | D13: =メンバー表!C31 -> 0 | E13: 34 | F13: =エントリーチェック表!S34 -> 0 | G13: =メンバー表!C81 -> 0
B14: 10 | C14: =エントリーチェック表!D35 -> 0 | D14: =メンバー表!C33 -> 0 | E14: 35 | F14: =エントリーチェック表!S35 -> 0 | G14: =メンバー表!C83 -> 0
B15: 11 | C15: =エントリーチェック表!D36 -> 0 | D15: =メンバー表!C35 -> 0 | E15: 36 | F15: =エントリーチェック表!S36 -> 0 | G15: =メンバー表!C85 -> 0
B16: 12 | C16: =エントリーチェック表!D37 -> 0 | D16: =メンバー表!C37 -> 0 | E16: 37 | F16: =エントリーチェック表!S37 -> 0 | G16: =メンバー表!C87 -> 0
B17: 13 | C17: =エントリーチェック表!D38 -> 0 | D17: =メンバー表!C39 -> 0 | E17: 38 | F17: =エントリーチェック表!S38 -> 0 | G17: =メンバー表!C89 -> 0
B18: 14 | C18: =エントリーチェック表!D39 -> 0 | D18: =メンバー表!C41 -> 0 | E18: 39 | F18: =エントリーチェック表!S39 -> 0 | G18: =メンバー表!C91 -> 0
B19: 15 | C19: =エントリーチェック表!D40 -> 0 | D19: =メンバー表!C43 -> 0 | E19: 40 | F19: =エントリーチェック表!S40 -> 0 | G19: =メンバー表!C93 -> 0
B20: 16 | C20: =エントリーチェック表!D41 -> 0 | D20: =メンバー表!C45 -> 0 | E20: 41 | F20: =エントリーチェック表!S41 -> 0 | G20: =メンバー表!C95 -> 0
B21: 17 | C21: =エントリーチェック表!D42 -> 0 | D21: =メンバー表!C47 -> 0 | E21: 42 | F21: =エントリーチェック表!S42 -> 0 | G21: =メンバー表!C97 -> 0
B22: 18 | C22: =エントリーチェック表!D43 -> 0 | D22: =メンバー表!C49 -> 0 | E22: 43 | F22: =エントリーチェック表!S43 -> 0 | G22: =メンバー表!C99 -> 0
B23: 19 | C23: =エントリーチェック表!D44 -> 0 | D23: =メンバー表!C51 -> 0 | E23: 44 | F23: =エントリーチェック表!S44 -> 0 | G23: =メンバー表!C101 -> 0
B24: 20 | C24: =エントリーチェック表!D45 -> 0 | D24: =メンバー表!C53 -> 0 | E24: 45 | F24: =エントリーチェック表!S45 -> 0 | G24: =メンバー表!C103 -> 0
B25: 21 | C25: =エントリーチェック表!D46 -> 0 | D25: =メンバー表!C55 -> 0 | E25: 46 | F25: =エントリーチェック表!S46 -> 0 | G25: =メンバー表!C105 -> 0
B26: 22 | C26: =エントリーチェック表!D47 -> 0 | D26: =メンバー表!C57 -> 0 | E26: 47 | F26: =エントリーチェック表!S47 -> 0 | G26: =メンバー表!C107 -> 0
B27: 23 | C27: =エントリーチェック表!D48 -> 0 | D27: =メンバー表!C59 -> 0 | E27: 48 | F27: =エントリーチェック表!S48 -> 0 | G27: =メンバー表!C109 -> 0
B28: 24 | C28: =エントリーチェック表!D49 -> 0 | D28: =メンバー表!C61 -> 0 | E28: 49 | F28: =エントリーチェック表!S49 -> 0 | G28: =メンバー表!C111 -> 0
B29: 25 | C29: =エントリーチェック表!D50 -> 0 | D29: =メンバー表!C63 -> 0 | E29: 50 | F29: =エントリーチェック表!S50 -> 0 | G29: =メンバー表!C113 -> 0
